BEGIN:VCALENDAR
VERSION:2.0
PRODID:-//Southland Travel - ECPv6.15.17.1//NONSGML v1.0//EN
CALSCALE:GREGORIAN
METHOD:PUBLISH
X-WR-CALNAME:Southland Travel
X-ORIGINAL-URL:https://southlandtravel.ca
X-WR-CALDESC:Events for Southland Travel
REFRESH-INTERVAL;VALUE=DURATION:PT1H
X-Robots-Tag:noindex
X-PUBLISHED-TTL:PT1H
BEGIN:VTIMEZONE
TZID:America/Detroit
BEGIN:DAYLIGHT
TZOFFSETFROM:-0500
TZOFFSETTO:-0400
TZNAME:EDT
DTSTART:20250309T070000
END:DAYLIGHT
BEGIN:STANDARD
TZOFFSETFROM:-0400
TZOFFSETTO:-0500
TZNAME:EST
DTSTART:20251102T060000
END:STANDARD
BEGIN:DAYLIGHT
TZOFFSETFROM:-0500
TZOFFSETTO:-0400
TZNAME:EDT
DTSTART:20260308T070000
END:DAYLIGHT
BEGIN:STANDARD
TZOFFSETFROM:-0400
TZOFFSETTO:-0500
TZNAME:EST
DTSTART:20261101T060000
END:STANDARD
BEGIN:DAYLIGHT
TZOFFSETFROM:-0500
TZOFFSETTO:-0400
TZNAME:EDT
DTSTART:20270314T070000
END:DAYLIGHT
BEGIN:STANDARD
TZOFFSETFROM:-0400
TZOFFSETTO:-0500
TZNAME:EST
DTSTART:20271107T060000
END:STANDARD
END:VTIMEZONE
BEGIN:VEVENT
DTSTART;VALUE=DATE:20261106
DTEND;VALUE=DATE:20261110
DTSTAMP:20260422T201206
CREATED:20250915T160343Z
LAST-MODIFIED:20260123T155509Z
UID:1771-1793923200-1794268799@southlandtravel.ca
SUMMARY:Nashville
DESCRIPTION:Nashville\, November 6-9\, 2026\, 1 night downtown Nashville\, 2 nights Opryland Hotel\, General Jackson lunch cruise\, Grand Ole Opry\, breakfast daily\, dinner at Ole Red\, tour of Nashville\, and more! Last day to book is October 2\, 2026. \nClick here for the detailed itinerary  –  Nashville  \n$1599.00 CAD per person (Double Occupancy) \n$1809.00 CAD per person (Single Occupancy)  \n 
URL:https://southlandtravel.ca/event/nashville-2/
LOCATION:Ontario
END:VEVENT
BEGIN:VEVENT
DTSTART;VALUE=DATE:20261111
DTEND;VALUE=DATE:20261114
DTSTAMP:20260422T201206
CREATED:20250922T200425Z
LAST-MODIFIED:20251211T172021Z
UID:1797-1794355200-1794614399@southlandtravel.ca
SUMMARY:Frankenmuth Shop till you Drop
DESCRIPTION:November 11-13\, 2026.  \n2 nights at the Bavarian Inn Lodge\, 2 breakfasts\, 2 dinners at the Bavarian Inn\, tour of Frankenmuth\, wine tasting and lots of shopping! \n$689.00 CAD per person (double) \n$869.00 CAD per person (single) \nContact us for the detailed itinerary! \nLast day to book is October 7\, 2026!
URL:https://southlandtravel.ca/event/frankenmuth-shop-till-you-drop/
LOCATION:Ontario
END:VEVENT
BEGIN:VEVENT
DTSTART;VALUE=DATE:20261121
DTEND;VALUE=DATE:20261122
DTSTAMP:20260422T201206
CREATED:20260121T204225Z
LAST-MODIFIED:20260123T155626Z
UID:1926-1795219200-1795305599@southlandtravel.ca
SUMMARY:Christmas at Glenlochie Lodge
DESCRIPTION:Christmas at Glenlochie Lodge – November 21\, 2026 \nShopping at The Glasshouse Nursery followed by lunch at Kelsey’s. More shopping down main street Dresden followed by a tour of the historical Glenlochie Lodge dressed in full Christmas decor and boasting more than 20 Christmas trees. \n$189.00 CAD per person \nThe last day to book is October 30\, 2026!
URL:https://southlandtravel.ca/event/christmas-at-glenlochie-lodge/
LOCATION:Ontario
END:VEVENT
BEGIN:VEVENT
DTSTART;VALUE=DATE:20261125
DTEND;VALUE=DATE:20261126
DTSTAMP:20260422T201206
CREATED:20260410T183612Z
LAST-MODIFIED:20260410T184416Z
UID:1990-1795564800-1795651199@southlandtravel.ca
SUMMARY:Stratford Christmas Trail
DESCRIPTION:Stratford Christmas Trail\, November 25\, 2026.  \nLunch at Anna Mae’s\, Shopping with vouchers along Stratford’s Christmas Trail (Locations coming November 1).  \n$229.00 CAD per person. Book by October 27\, 2026.
URL:https://southlandtravel.ca/event/stratford-christmas-trail/
LOCATION:Ontario
END:VEVENT
END:VCALENDAR