BEGIN:VCALENDAR
VERSION:2.0
PRODID:-//Southland Travel - ECPv6.15.17.1//NONSGML v1.0//EN
CALSCALE:GREGORIAN
METHOD:PUBLISH
X-WR-CALNAME:Southland Travel
X-ORIGINAL-URL:https://southlandtravel.ca
X-WR-CALDESC:Events for Southland Travel
REFRESH-INTERVAL;VALUE=DURATION:PT1H
X-Robots-Tag:noindex
X-PUBLISHED-TTL:PT1H
BEGIN:VTIMEZONE
TZID:America/Detroit
BEGIN:DAYLIGHT
TZOFFSETFROM:-0500
TZOFFSETTO:-0400
TZNAME:EDT
DTSTART:20250309T070000
END:DAYLIGHT
BEGIN:STANDARD
TZOFFSETFROM:-0400
TZOFFSETTO:-0500
TZNAME:EST
DTSTART:20251102T060000
END:STANDARD
BEGIN:DAYLIGHT
TZOFFSETFROM:-0500
TZOFFSETTO:-0400
TZNAME:EDT
DTSTART:20260308T070000
END:DAYLIGHT
BEGIN:STANDARD
TZOFFSETFROM:-0400
TZOFFSETTO:-0500
TZNAME:EST
DTSTART:20261101T060000
END:STANDARD
BEGIN:DAYLIGHT
TZOFFSETFROM:-0500
TZOFFSETTO:-0400
TZNAME:EDT
DTSTART:20270314T070000
END:DAYLIGHT
BEGIN:STANDARD
TZOFFSETFROM:-0400
TZOFFSETTO:-0500
TZNAME:EST
DTSTART:20271107T060000
END:STANDARD
END:VTIMEZONE
BEGIN:VEVENT
DTSTART;VALUE=DATE:20260509
DTEND;VALUE=DATE:20260510
DTSTAMP:20260421T221445
CREATED:20260106T211328Z
LAST-MODIFIED:20260413T173615Z
UID:1904-1778284800-1778371199@southlandtravel.ca
SUMMARY:St. Jacobs
DESCRIPTION:St. Jacobs\, Ontario \nMay 9th \nDeparts from Windsor/Essex \nFully hosted day trip to historic St. Jacobs\, Ontario.  Included on this day is a full lunch\, shopping at Canada’s largest market\, St. Jacobs Market\, as well as in the Village of St. Jacobs.  Explore every aspect and discover unique finds as well as delectable foods to enjoy or share. \n$169.00 CAD per person. \nLast day to book is April 27th\, 2026 \n  Tico Reg#50015786
URL:https://southlandtravel.ca/event/st-jacobs/
LOCATION:Ontario
END:VEVENT
BEGIN:VEVENT
DTSTART;VALUE=DATE:20260422
DTEND;VALUE=DATE:20260423
DTSTAMP:20260421T221445
CREATED:20251127T180715Z
LAST-MODIFIED:20260413T173557Z
UID:1816-1776816000-1776902399@southlandtravel.ca
SUMMARY:Guys and Dolls
DESCRIPTION:Stratford\, ON \nGuys and Dolls \nApril 22\, 2026 \nDepartures from Essex and Windsor. Lunch at Anna Mae’s prior to the show. \nIn the bustling streets of New York\, a smooth-talking gambler wagers he can charm a pious missionary\, while another high roller desperately fights to keep his game alive and his fiancée from walking away. In a city ruled by chance\, love takes unexpected turns and both men soon discover they are risking far more than money. \n$269.00 CAD per person—PRICE REDUCTION—NOW $245.00 CAD per person \nBook by March 7\, 2026 \nTico Reg#50015786
URL:https://southlandtravel.ca/event/guys-and-dolls/
LOCATION:Ontario
END:VEVENT
END:VCALENDAR