BEGIN:VCALENDAR
VERSION:2.0
PRODID:-//Southland Travel - ECPv6.15.17.1//NONSGML v1.0//EN
CALSCALE:GREGORIAN
METHOD:PUBLISH
X-WR-CALNAME:Southland Travel
X-ORIGINAL-URL:https://southlandtravel.ca
X-WR-CALDESC:Events for Southland Travel
REFRESH-INTERVAL;VALUE=DURATION:PT1H
X-Robots-Tag:noindex
X-PUBLISHED-TTL:PT1H
BEGIN:VTIMEZONE
TZID:America/Detroit
BEGIN:DAYLIGHT
TZOFFSETFROM:-0500
TZOFFSETTO:-0400
TZNAME:EDT
DTSTART:20240310T070000
END:DAYLIGHT
BEGIN:STANDARD
TZOFFSETFROM:-0400
TZOFFSETTO:-0500
TZNAME:EST
DTSTART:20241103T060000
END:STANDARD
BEGIN:DAYLIGHT
TZOFFSETFROM:-0500
TZOFFSETTO:-0400
TZNAME:EDT
DTSTART:20250309T070000
END:DAYLIGHT
BEGIN:STANDARD
TZOFFSETFROM:-0400
TZOFFSETTO:-0500
TZNAME:EST
DTSTART:20251102T060000
END:STANDARD
BEGIN:DAYLIGHT
TZOFFSETFROM:-0500
TZOFFSETTO:-0400
TZNAME:EDT
DTSTART:20260308T070000
END:DAYLIGHT
BEGIN:STANDARD
TZOFFSETFROM:-0400
TZOFFSETTO:-0500
TZNAME:EST
DTSTART:20261101T060000
END:STANDARD
END:VTIMEZONE
BEGIN:VEVENT
DTSTART;VALUE=DATE:20251026
DTEND;VALUE=DATE:20251106
DTSTAMP:20260419T181748
CREATED:20250915T155553Z
LAST-MODIFIED:20250915T155553Z
UID:1741-1761436800-1762387199@southlandtravel.ca
SUMMARY:Avalon Legendary Danube
DESCRIPTION:October 26-November 5\, 2025\, Avalon Legendary Danube\, hosted by our very own Lisa Tetzlaff from Southland Travel\, roundtrip transfers from Essex and Windsor to Detroit Metro\, roundtrip air from Detroit to Prague and home from Budapest with Delta\, 2 nights in Prague with a city tour\, all excursions\, beer and wine with lunch and dinner and happy hour daily while on the ship\, all transfers from airport to hotel in Prague\, ship docking station and airport in Budapest\, starting at $7999.00 CAD pp for a Open Air Balcony Cabin. SOLD OUT!
URL:https://southlandtravel.ca/event/avalon-legendary-danube/
LOCATION:Ontario
END:VEVENT
BEGIN:VEVENT
DTSTART;VALUE=DATE:20250928
DTEND;VALUE=DATE:20250929
DTSTAMP:20260419T181748
CREATED:20250915T155433Z
LAST-MODIFIED:20250915T155433Z
UID:1737-1759017600-1759103999@southlandtravel.ca
SUMMARY:All About ABBA
DESCRIPTION:All About ABBA\, Petrolia\, September 28\, main floor seats and lunch included at Actors! $189.00 CAD per person. 
URL:https://southlandtravel.ca/event/all-about-abba/
LOCATION:Ontario
END:VEVENT
END:VCALENDAR