BEGIN:VCALENDAR
VERSION:2.0
PRODID:-//Southland Travel - ECPv6.15.17.1//NONSGML v1.0//EN
CALSCALE:GREGORIAN
METHOD:PUBLISH
X-WR-CALNAME:Southland Travel
X-ORIGINAL-URL:https://southlandtravel.ca
X-WR-CALDESC:Events for Southland Travel
REFRESH-INTERVAL;VALUE=DURATION:PT1H
X-Robots-Tag:noindex
X-PUBLISHED-TTL:PT1H
BEGIN:VTIMEZONE
TZID:America/Detroit
BEGIN:DAYLIGHT
TZOFFSETFROM:-0500
TZOFFSETTO:-0400
TZNAME:EDT
DTSTART:20250309T070000
END:DAYLIGHT
BEGIN:STANDARD
TZOFFSETFROM:-0400
TZOFFSETTO:-0500
TZNAME:EST
DTSTART:20251102T060000
END:STANDARD
BEGIN:DAYLIGHT
TZOFFSETFROM:-0500
TZOFFSETTO:-0400
TZNAME:EDT
DTSTART:20260308T070000
END:DAYLIGHT
BEGIN:STANDARD
TZOFFSETFROM:-0400
TZOFFSETTO:-0500
TZNAME:EST
DTSTART:20261101T060000
END:STANDARD
BEGIN:DAYLIGHT
TZOFFSETFROM:-0500
TZOFFSETTO:-0400
TZNAME:EDT
DTSTART:20270314T070000
END:DAYLIGHT
BEGIN:STANDARD
TZOFFSETFROM:-0400
TZOFFSETTO:-0500
TZNAME:EST
DTSTART:20271107T060000
END:STANDARD
END:VTIMEZONE
BEGIN:VEVENT
DTSTART;VALUE=DATE:20260927
DTEND;VALUE=DATE:20261003
DTSTAMP:20260422T020828
CREATED:20260225T155254Z
LAST-MODIFIED:20260304T162216Z
UID:1965-1790467200-1790985599@southlandtravel.ca
SUMMARY:Tadoussac Whales & The Tales of Louise Penny
DESCRIPTION:Tadoussac Whales & The Tales of Louise Penny/Three Pines Tour\, September 27-October 2\, 2026 \n2 nights in Cornwall\, 2 nts at the historical Hotel Tadoussac\, 1 nt Bromont Quebec\, Whale Watching tour\, Marine Mammal Centre visit in Tadoussac\, visit to the Sand Dunes of Tadoussac\, Louise Penny/Three Pines Tour with a Raconteur Guide\, free time in Knowlton Village\, 5 breakfasts\, 1 lunch\, 4 dinners  \n$2139.00 CAD per person (double) \n$2689.00 CAD (single) \nBook by July 27\, 2026! \nContact us for the detailed itinerary! \n519-776-9336 \ngrouptourssouthland@gmail.com
URL:https://southlandtravel.ca/event/tadoussac-whales-the-tales-of-louise-penny/
LOCATION:Ontario
END:VEVENT
BEGIN:VEVENT
DTSTART;VALUE=DATE:20260928
DTEND;VALUE=DATE:20261012
DTSTAMP:20260422T020828
CREATED:20250915T160320Z
LAST-MODIFIED:20260330T183911Z
UID:1769-1790553600-1791763199@southlandtravel.ca
SUMMARY:Best of Italy
DESCRIPTION:Best of Italy\, September 28 – October 11\, 2026\, Group departure from Windsor/Essex\, Air to/from Rome\, Italy\, and more! Highlights include Rome\, Pompeii\, Isle of Capri\, Sorrento\, Assisi\, Florence\, Pisa\, Verona\, Venice\, Lake Como\, Milan\, & Lake Maggiore. 12 breakfast and 6 dinners included.  \n$8599.00 CAD per person (double occupancy) \n$9799.00 CAD per person (single occupancy – available on request) \nLast day to book with full payment is June 18\, 2026. \nClick here to view the full itinerary -> Best of Italy
URL:https://southlandtravel.ca/event/best-of-italy/
LOCATION:Ontario
END:VEVENT
END:VCALENDAR