BEGIN:VCALENDAR
VERSION:2.0
PRODID:-//Southland Travel - ECPv6.15.17.1//NONSGML v1.0//EN
CALSCALE:GREGORIAN
METHOD:PUBLISH
X-ORIGINAL-URL:https://southlandtravel.ca
X-WR-CALDESC:Events for Southland Travel
REFRESH-INTERVAL;VALUE=DURATION:PT1H
X-Robots-Tag:noindex
X-PUBLISHED-TTL:PT1H
BEGIN:VTIMEZONE
TZID:America/Detroit
BEGIN:DAYLIGHT
TZOFFSETFROM:-0500
TZOFFSETTO:-0400
TZNAME:EDT
DTSTART:20250309T070000
END:DAYLIGHT
BEGIN:STANDARD
TZOFFSETFROM:-0400
TZOFFSETTO:-0500
TZNAME:EST
DTSTART:20251102T060000
END:STANDARD
BEGIN:DAYLIGHT
TZOFFSETFROM:-0500
TZOFFSETTO:-0400
TZNAME:EDT
DTSTART:20260308T070000
END:DAYLIGHT
BEGIN:STANDARD
TZOFFSETFROM:-0400
TZOFFSETTO:-0500
TZNAME:EST
DTSTART:20261101T060000
END:STANDARD
BEGIN:DAYLIGHT
TZOFFSETFROM:-0500
TZOFFSETTO:-0400
TZNAME:EDT
DTSTART:20270314T070000
END:DAYLIGHT
BEGIN:STANDARD
TZOFFSETFROM:-0400
TZOFFSETTO:-0500
TZNAME:EST
DTSTART:20271107T060000
END:STANDARD
END:VTIMEZONE
BEGIN:VEVENT
DTSTART;VALUE=DATE:20260724
DTEND;VALUE=DATE:20260803
DTSTAMP:20260421T232158
CREATED:20260303T204558Z
LAST-MODIFIED:20260303T204558Z
UID:1969-1784851200-1785715199@southlandtravel.ca
SUMMARY:Maritimes Adventure with Cosmos
DESCRIPTION:July 24-August 2\, 2026.  \nFully hosted from Windsor/Essex\, airport transfers\, flights from Detroit to Halifax. Highlights include Hopewell Rocks\, Kingsbrae Gardens in Saint John\, driving across the Confederation Bridge to P.E.I\, Charlottetown\, ferry ride back to Nova Scotia\, Cabot Trail and more.  \n$5199.00 CAD per person (double)  \n\nContact us for the detailed itinerary!\n\n\n\nLimited space! Book your spot now!\n\n\n\n519-776-9336\ngrouptourssouthland@gmail.com\n\n\n\nTico Reg #50015786\n\n 
URL:https://southlandtravel.ca/event/maritimes-adventure-with-cosmos/
LOCATION:Ontario
END:VEVENT
END:VCALENDAR