BEGIN:VCALENDAR
VERSION:2.0
PRODID:-//Southland Travel - ECPv6.15.17.1//NONSGML v1.0//EN
CALSCALE:GREGORIAN
METHOD:PUBLISH
X-WR-CALNAME:Southland Travel
X-ORIGINAL-URL:https://southlandtravel.ca
X-WR-CALDESC:Events for Southland Travel
REFRESH-INTERVAL;VALUE=DURATION:PT1H
X-Robots-Tag:noindex
X-PUBLISHED-TTL:PT1H
BEGIN:VTIMEZONE
TZID:America/Detroit
BEGIN:DAYLIGHT
TZOFFSETFROM:-0500
TZOFFSETTO:-0400
TZNAME:EDT
DTSTART:20250309T070000
END:DAYLIGHT
BEGIN:STANDARD
TZOFFSETFROM:-0400
TZOFFSETTO:-0500
TZNAME:EST
DTSTART:20251102T060000
END:STANDARD
BEGIN:DAYLIGHT
TZOFFSETFROM:-0500
TZOFFSETTO:-0400
TZNAME:EDT
DTSTART:20260308T070000
END:DAYLIGHT
BEGIN:STANDARD
TZOFFSETFROM:-0400
TZOFFSETTO:-0500
TZNAME:EST
DTSTART:20261101T060000
END:STANDARD
BEGIN:DAYLIGHT
TZOFFSETFROM:-0500
TZOFFSETTO:-0400
TZNAME:EDT
DTSTART:20270314T070000
END:DAYLIGHT
BEGIN:STANDARD
TZOFFSETFROM:-0400
TZOFFSETTO:-0500
TZNAME:EST
DTSTART:20271107T060000
END:STANDARD
END:VTIMEZONE
BEGIN:VEVENT
DTSTART;VALUE=DATE:20260723
DTEND;VALUE=DATE:20260724
DTSTAMP:20260421T231910
CREATED:20251127T183326Z
LAST-MODIFIED:20260108T164017Z
UID:1818-1784764800-1784851199@southlandtravel.ca
SUMMARY:A Midsummer Night's Dream
DESCRIPTION:Stratford ON \nJuly 23\, 2026 \nDepartures from Essex and Windsor. \nLunch at Anna Mae’s prior to the show.  \nStrange things happen in the woods by night\, with neither spirit nor mortal safe from the wiles of the trickster Puck. For mismatched lovers\, romance runs delightfully amok\, but true love triumphs at dawn. \n$289.00 CAD per person—PRICE REDUCTION—NOW $269.00 CAD per person \nCall today to book your spot! \n519-776-9336 \nLast day to book is June 5\, 2026!
URL:https://southlandtravel.ca/event/a-midsummer-nights-dream/
LOCATION:Ontario
END:VEVENT
END:VCALENDAR