BEGIN:VCALENDAR
VERSION:2.0
PRODID:-//Southland Travel - ECPv6.15.17.1//NONSGML v1.0//EN
CALSCALE:GREGORIAN
METHOD:PUBLISH
X-WR-CALNAME:Southland Travel
X-ORIGINAL-URL:https://southlandtravel.ca
X-WR-CALDESC:Events for Southland Travel
REFRESH-INTERVAL;VALUE=DURATION:PT1H
X-Robots-Tag:noindex
X-PUBLISHED-TTL:PT1H
BEGIN:VTIMEZONE
TZID:America/Detroit
BEGIN:DAYLIGHT
TZOFFSETFROM:-0500
TZOFFSETTO:-0400
TZNAME:EDT
DTSTART:20250309T070000
END:DAYLIGHT
BEGIN:STANDARD
TZOFFSETFROM:-0400
TZOFFSETTO:-0500
TZNAME:EST
DTSTART:20251102T060000
END:STANDARD
BEGIN:DAYLIGHT
TZOFFSETFROM:-0500
TZOFFSETTO:-0400
TZNAME:EDT
DTSTART:20260308T070000
END:DAYLIGHT
BEGIN:STANDARD
TZOFFSETFROM:-0400
TZOFFSETTO:-0500
TZNAME:EST
DTSTART:20261101T060000
END:STANDARD
BEGIN:DAYLIGHT
TZOFFSETFROM:-0500
TZOFFSETTO:-0400
TZNAME:EDT
DTSTART:20270314T070000
END:DAYLIGHT
BEGIN:STANDARD
TZOFFSETFROM:-0400
TZOFFSETTO:-0500
TZNAME:EST
DTSTART:20271107T060000
END:STANDARD
END:VTIMEZONE
BEGIN:VEVENT
DTSTART;VALUE=DATE:20260712
DTEND;VALUE=DATE:20260720
DTSTAMP:20260421T231909
CREATED:20250915T160151Z
LAST-MODIFIED:20260302T194033Z
UID:1763-1783814400-1784505599@southlandtravel.ca
SUMMARY:Enchanting Islands Maritimes Tour
DESCRIPTION:Enchanting Islands Maritimes Tour\, July 12-19\, 2026 \nHighlights include Halifax\, Peggy’s Cove\, Prince Edward Island National Park\, Charlottetown\, Anne of Green Gables\, Cape Breton Island\, Baddeck\, Cabot Trail and much more! \n$4889.00 CAD per person (double occupancy) \n$5759.00 CAD per person (single occupancy) \nLast day to book is April 30\, 2026 \nWAITLIST ONLY \nClick here to view the full itinerary!Enchanting Maritimes
URL:https://southlandtravel.ca/event/enchanting-islands-maritimes-tour/
LOCATION:Ontario
END:VEVENT
END:VCALENDAR