BEGIN:VCALENDAR
VERSION:2.0
PRODID:-//Southland Travel - ECPv6.15.17.1//NONSGML v1.0//EN
CALSCALE:GREGORIAN
METHOD:PUBLISH
X-WR-CALNAME:Southland Travel
X-ORIGINAL-URL:https://southlandtravel.ca
X-WR-CALDESC:Events for Southland Travel
REFRESH-INTERVAL;VALUE=DURATION:PT1H
X-Robots-Tag:noindex
X-PUBLISHED-TTL:PT1H
BEGIN:VTIMEZONE
TZID:America/Detroit
BEGIN:DAYLIGHT
TZOFFSETFROM:-0500
TZOFFSETTO:-0400
TZNAME:EDT
DTSTART:20250309T070000
END:DAYLIGHT
BEGIN:STANDARD
TZOFFSETFROM:-0400
TZOFFSETTO:-0500
TZNAME:EST
DTSTART:20251102T060000
END:STANDARD
BEGIN:DAYLIGHT
TZOFFSETFROM:-0500
TZOFFSETTO:-0400
TZNAME:EDT
DTSTART:20260308T070000
END:DAYLIGHT
BEGIN:STANDARD
TZOFFSETFROM:-0400
TZOFFSETTO:-0500
TZNAME:EST
DTSTART:20261101T060000
END:STANDARD
BEGIN:DAYLIGHT
TZOFFSETFROM:-0500
TZOFFSETTO:-0400
TZNAME:EDT
DTSTART:20270314T070000
END:DAYLIGHT
BEGIN:STANDARD
TZOFFSETFROM:-0400
TZOFFSETTO:-0500
TZNAME:EST
DTSTART:20271107T060000
END:STANDARD
END:VTIMEZONE
BEGIN:VEVENT
DTSTART;VALUE=DATE:20260630
DTEND;VALUE=DATE:20260704
DTSTAMP:20260421T185638
CREATED:20250915T160115Z
LAST-MODIFIED:20260413T173753Z
UID:1761-1782777600-1783123199@southlandtravel.ca
SUMMARY:Ottawa Eh
DESCRIPTION:Ottawa Eh! June 30 – July 3\, 2026\, 3 nights at the Courtyard Marriott right near the Byward Market\, 3 breakfasts\, Oh Canada dinner show\, 2 day hop on hop off pass\, evening rideau canal cruise\, and more! $1109.00 CAD per person (double occupancy).  \n  \n  Tico Reg#50015786
URL:https://southlandtravel.ca/event/ottawa-eh/
LOCATION:Ontario
END:VEVENT
END:VCALENDAR