BEGIN:VCALENDAR
VERSION:2.0
PRODID:-//Southland Travel - ECPv6.15.17.1//NONSGML v1.0//EN
CALSCALE:GREGORIAN
METHOD:PUBLISH
X-ORIGINAL-URL:https://southlandtravel.ca
X-WR-CALDESC:Events for Southland Travel
REFRESH-INTERVAL;VALUE=DURATION:PT1H
X-Robots-Tag:noindex
X-PUBLISHED-TTL:PT1H
BEGIN:VTIMEZONE
TZID:America/Detroit
BEGIN:DAYLIGHT
TZOFFSETFROM:-0500
TZOFFSETTO:-0400
TZNAME:EDT
DTSTART:20250309T070000
END:DAYLIGHT
BEGIN:STANDARD
TZOFFSETFROM:-0400
TZOFFSETTO:-0500
TZNAME:EST
DTSTART:20251102T060000
END:STANDARD
BEGIN:DAYLIGHT
TZOFFSETFROM:-0500
TZOFFSETTO:-0400
TZNAME:EDT
DTSTART:20260308T070000
END:DAYLIGHT
BEGIN:STANDARD
TZOFFSETFROM:-0400
TZOFFSETTO:-0500
TZNAME:EST
DTSTART:20261101T060000
END:STANDARD
BEGIN:DAYLIGHT
TZOFFSETFROM:-0500
TZOFFSETTO:-0400
TZNAME:EDT
DTSTART:20270314T070000
END:DAYLIGHT
BEGIN:STANDARD
TZOFFSETFROM:-0400
TZOFFSETTO:-0500
TZNAME:EST
DTSTART:20271107T060000
END:STANDARD
END:VTIMEZONE
BEGIN:VEVENT
DTSTART;VALUE=DATE:20260519
DTEND;VALUE=DATE:20260520
DTSTAMP:20260421T155048
CREATED:20260120T190416Z
LAST-MODIFIED:20260413T173725Z
UID:1920-1779148800-1779235199@southlandtravel.ca
SUMMARY:I Do! I Do!
DESCRIPTION:May 19\, 2026 \nPetrolia\, ON \nDepartures from Essex and Windsor \nThis is a fully hosted day trip including lunch at Actors prior to the show. This charming\, beloved musical follows one couple through fifty years of marriage- the laugher\, the tears\, and the perfectly imperfect moments between. From newlywed bliss to the golden years\, I Do! I Do! features heartfelt humor and memorable songs. \n$209.00 CAD per person \nBook by April 13\, 2026 \n  Tico Reg#50015786
URL:https://southlandtravel.ca/event/i-do-i-do/
LOCATION:Petrolia Playhouse\, Petrolia\, Ontario\, N0N1R0\, Canada
END:VEVENT
END:VCALENDAR